BEGIN:VCALENDAR
VERSION:2.0
PRODID:-//Mind-Ed Margaret River - ECPv6.15.20//NONSGML v1.0//EN
CALSCALE:GREGORIAN
METHOD:PUBLISH
X-WR-CALNAME:Mind-Ed Margaret River
X-ORIGINAL-URL:https://mind-ed.org.au
X-WR-CALDESC:Events for Mind-Ed Margaret River
REFRESH-INTERVAL;VALUE=DURATION:PT1H
X-Robots-Tag:noindex
X-PUBLISHED-TTL:PT1H
BEGIN:VTIMEZONE
TZID:Australia/Perth
BEGIN:STANDARD
TZOFFSETFROM:+0800
TZOFFSETTO:+0800
TZNAME:AWST
DTSTART:20250101T000000
END:STANDARD
END:VTIMEZONE
BEGIN:VEVENT
DTSTART;TZID=Australia/Perth:20261106T103000
DTEND;TZID=Australia/Perth:20261106T120000
DTSTAMP:20260426T025730
CREATED:20260216T083752Z
LAST-MODIFIED:20260216T084254Z
UID:10003419-1793961000-1793966400@mind-ed.org.au
SUMMARY:Community Pantry
DESCRIPTION:Community Pantry Food bags\n\n\n\nFriday is Pantry Day\n\n\n\nEach Friday between 10:30am and 12pm we welcome members of the community to access a variety of fresh fruit and vegetables\, dry good staples\, dairy and frozen meat.We are open for donations between 9am – 11am on Thursdays\, and 9am – 10:30am on Fridays.  \n\n\n\nWe especially welcome excess home grown produce!All are welcome and we have a suggested weekly donation of $10.  \n\n\n\nOur motto is “Give what you can\, receive what you need”. We can cater for dietary requirements and preferences\, please just chat to one of our coordinator or one of our friendly volunteers who will be more than happy to help. \n\n\n\nDate: Every FridayTime: 10:30 am till noonLocation: 41 Clarke Road\, Margaret RiverCost: $10 per bag or donate what you can \n\n\n\nWorking together to reduce food waste and food insecurity in our community. \n\n\n\nFind out more like how to volunteer\, donate your time or money to this great local organisation.
URL:https://mind-ed.org.au/event/community-pantry/2026-11-06/
CATEGORIES:Local Events
ATTACH;FMTTYPE=image/jpeg:https://mind-ed.org.au/wp-content/uploads/sites/113/2025/10/2.jpg
END:VEVENT
BEGIN:VEVENT
DTSTART;TZID=Australia/Perth:20261113T103000
DTEND;TZID=Australia/Perth:20261113T120000
DTSTAMP:20260426T025730
CREATED:20260216T083752Z
LAST-MODIFIED:20260216T084254Z
UID:10003420-1794565800-1794571200@mind-ed.org.au
SUMMARY:Community Pantry
DESCRIPTION:Community Pantry Food bags\n\n\n\nFriday is Pantry Day\n\n\n\nEach Friday between 10:30am and 12pm we welcome members of the community to access a variety of fresh fruit and vegetables\, dry good staples\, dairy and frozen meat.We are open for donations between 9am – 11am on Thursdays\, and 9am – 10:30am on Fridays.  \n\n\n\nWe especially welcome excess home grown produce!All are welcome and we have a suggested weekly donation of $10.  \n\n\n\nOur motto is “Give what you can\, receive what you need”. We can cater for dietary requirements and preferences\, please just chat to one of our coordinator or one of our friendly volunteers who will be more than happy to help. \n\n\n\nDate: Every FridayTime: 10:30 am till noonLocation: 41 Clarke Road\, Margaret RiverCost: $10 per bag or donate what you can \n\n\n\nWorking together to reduce food waste and food insecurity in our community. \n\n\n\nFind out more like how to volunteer\, donate your time or money to this great local organisation.
URL:https://mind-ed.org.au/event/community-pantry/2026-11-13/
CATEGORIES:Local Events
ATTACH;FMTTYPE=image/jpeg:https://mind-ed.org.au/wp-content/uploads/sites/113/2025/10/2.jpg
END:VEVENT
BEGIN:VEVENT
DTSTART;TZID=Australia/Perth:20261120T103000
DTEND;TZID=Australia/Perth:20261120T120000
DTSTAMP:20260426T025730
CREATED:20260216T083752Z
LAST-MODIFIED:20260216T084254Z
UID:10003421-1795170600-1795176000@mind-ed.org.au
SUMMARY:Community Pantry
DESCRIPTION:Community Pantry Food bags\n\n\n\nFriday is Pantry Day\n\n\n\nEach Friday between 10:30am and 12pm we welcome members of the community to access a variety of fresh fruit and vegetables\, dry good staples\, dairy and frozen meat.We are open for donations between 9am – 11am on Thursdays\, and 9am – 10:30am on Fridays.  \n\n\n\nWe especially welcome excess home grown produce!All are welcome and we have a suggested weekly donation of $10.  \n\n\n\nOur motto is “Give what you can\, receive what you need”. We can cater for dietary requirements and preferences\, please just chat to one of our coordinator or one of our friendly volunteers who will be more than happy to help. \n\n\n\nDate: Every FridayTime: 10:30 am till noonLocation: 41 Clarke Road\, Margaret RiverCost: $10 per bag or donate what you can \n\n\n\nWorking together to reduce food waste and food insecurity in our community. \n\n\n\nFind out more like how to volunteer\, donate your time or money to this great local organisation.
URL:https://mind-ed.org.au/event/community-pantry/2026-11-20/
CATEGORIES:Local Events
ATTACH;FMTTYPE=image/jpeg:https://mind-ed.org.au/wp-content/uploads/sites/113/2025/10/2.jpg
END:VEVENT
BEGIN:VEVENT
DTSTART;TZID=Australia/Perth:20261127T103000
DTEND;TZID=Australia/Perth:20261127T120000
DTSTAMP:20260426T025730
CREATED:20260216T083752Z
LAST-MODIFIED:20260216T084254Z
UID:10003422-1795775400-1795780800@mind-ed.org.au
SUMMARY:Community Pantry
DESCRIPTION:Community Pantry Food bags\n\n\n\nFriday is Pantry Day\n\n\n\nEach Friday between 10:30am and 12pm we welcome members of the community to access a variety of fresh fruit and vegetables\, dry good staples\, dairy and frozen meat.We are open for donations between 9am – 11am on Thursdays\, and 9am – 10:30am on Fridays.  \n\n\n\nWe especially welcome excess home grown produce!All are welcome and we have a suggested weekly donation of $10.  \n\n\n\nOur motto is “Give what you can\, receive what you need”. We can cater for dietary requirements and preferences\, please just chat to one of our coordinator or one of our friendly volunteers who will be more than happy to help. \n\n\n\nDate: Every FridayTime: 10:30 am till noonLocation: 41 Clarke Road\, Margaret RiverCost: $10 per bag or donate what you can \n\n\n\nWorking together to reduce food waste and food insecurity in our community. \n\n\n\nFind out more like how to volunteer\, donate your time or money to this great local organisation.
URL:https://mind-ed.org.au/event/community-pantry/2026-11-27/
CATEGORIES:Local Events
ATTACH;FMTTYPE=image/jpeg:https://mind-ed.org.au/wp-content/uploads/sites/113/2025/10/2.jpg
END:VEVENT
BEGIN:VEVENT
DTSTART;TZID=Australia/Perth:20261204T103000
DTEND;TZID=Australia/Perth:20261204T120000
DTSTAMP:20260426T025730
CREATED:20260216T083752Z
LAST-MODIFIED:20260216T084254Z
UID:10003423-1796380200-1796385600@mind-ed.org.au
SUMMARY:Community Pantry
DESCRIPTION:Community Pantry Food bags\n\n\n\nFriday is Pantry Day\n\n\n\nEach Friday between 10:30am and 12pm we welcome members of the community to access a variety of fresh fruit and vegetables\, dry good staples\, dairy and frozen meat.We are open for donations between 9am – 11am on Thursdays\, and 9am – 10:30am on Fridays.  \n\n\n\nWe especially welcome excess home grown produce!All are welcome and we have a suggested weekly donation of $10.  \n\n\n\nOur motto is “Give what you can\, receive what you need”. We can cater for dietary requirements and preferences\, please just chat to one of our coordinator or one of our friendly volunteers who will be more than happy to help. \n\n\n\nDate: Every FridayTime: 10:30 am till noonLocation: 41 Clarke Road\, Margaret RiverCost: $10 per bag or donate what you can \n\n\n\nWorking together to reduce food waste and food insecurity in our community. \n\n\n\nFind out more like how to volunteer\, donate your time or money to this great local organisation.
URL:https://mind-ed.org.au/event/community-pantry/2026-12-04/
CATEGORIES:Local Events
ATTACH;FMTTYPE=image/jpeg:https://mind-ed.org.au/wp-content/uploads/sites/113/2025/10/2.jpg
END:VEVENT
BEGIN:VEVENT
DTSTART;TZID=Australia/Perth:20261211T103000
DTEND;TZID=Australia/Perth:20261211T120000
DTSTAMP:20260426T025730
CREATED:20260216T083752Z
LAST-MODIFIED:20260216T084254Z
UID:10003424-1796985000-1796990400@mind-ed.org.au
SUMMARY:Community Pantry
DESCRIPTION:Community Pantry Food bags\n\n\n\nFriday is Pantry Day\n\n\n\nEach Friday between 10:30am and 12pm we welcome members of the community to access a variety of fresh fruit and vegetables\, dry good staples\, dairy and frozen meat.We are open for donations between 9am – 11am on Thursdays\, and 9am – 10:30am on Fridays.  \n\n\n\nWe especially welcome excess home grown produce!All are welcome and we have a suggested weekly donation of $10.  \n\n\n\nOur motto is “Give what you can\, receive what you need”. We can cater for dietary requirements and preferences\, please just chat to one of our coordinator or one of our friendly volunteers who will be more than happy to help. \n\n\n\nDate: Every FridayTime: 10:30 am till noonLocation: 41 Clarke Road\, Margaret RiverCost: $10 per bag or donate what you can \n\n\n\nWorking together to reduce food waste and food insecurity in our community. \n\n\n\nFind out more like how to volunteer\, donate your time or money to this great local organisation.
URL:https://mind-ed.org.au/event/community-pantry/2026-12-11/
CATEGORIES:Local Events
ATTACH;FMTTYPE=image/jpeg:https://mind-ed.org.au/wp-content/uploads/sites/113/2025/10/2.jpg
END:VEVENT
BEGIN:VEVENT
DTSTART;TZID=Australia/Perth:20261218T103000
DTEND;TZID=Australia/Perth:20261218T120000
DTSTAMP:20260426T025730
CREATED:20260216T083752Z
LAST-MODIFIED:20260216T084254Z
UID:10003425-1797589800-1797595200@mind-ed.org.au
SUMMARY:Community Pantry
DESCRIPTION:Community Pantry Food bags\n\n\n\nFriday is Pantry Day\n\n\n\nEach Friday between 10:30am and 12pm we welcome members of the community to access a variety of fresh fruit and vegetables\, dry good staples\, dairy and frozen meat.We are open for donations between 9am – 11am on Thursdays\, and 9am – 10:30am on Fridays.  \n\n\n\nWe especially welcome excess home grown produce!All are welcome and we have a suggested weekly donation of $10.  \n\n\n\nOur motto is “Give what you can\, receive what you need”. We can cater for dietary requirements and preferences\, please just chat to one of our coordinator or one of our friendly volunteers who will be more than happy to help. \n\n\n\nDate: Every FridayTime: 10:30 am till noonLocation: 41 Clarke Road\, Margaret RiverCost: $10 per bag or donate what you can \n\n\n\nWorking together to reduce food waste and food insecurity in our community. \n\n\n\nFind out more like how to volunteer\, donate your time or money to this great local organisation.
URL:https://mind-ed.org.au/event/community-pantry/2026-12-18/
CATEGORIES:Local Events
ATTACH;FMTTYPE=image/jpeg:https://mind-ed.org.au/wp-content/uploads/sites/113/2025/10/2.jpg
END:VEVENT
BEGIN:VEVENT
DTSTART;TZID=Australia/Perth:20261225T103000
DTEND;TZID=Australia/Perth:20261225T120000
DTSTAMP:20260426T025730
CREATED:20260216T083752Z
LAST-MODIFIED:20260216T084254Z
UID:10003426-1798194600-1798200000@mind-ed.org.au
SUMMARY:Community Pantry
DESCRIPTION:Community Pantry Food bags\n\n\n\nFriday is Pantry Day\n\n\n\nEach Friday between 10:30am and 12pm we welcome members of the community to access a variety of fresh fruit and vegetables\, dry good staples\, dairy and frozen meat.We are open for donations between 9am – 11am on Thursdays\, and 9am – 10:30am on Fridays.  \n\n\n\nWe especially welcome excess home grown produce!All are welcome and we have a suggested weekly donation of $10.  \n\n\n\nOur motto is “Give what you can\, receive what you need”. We can cater for dietary requirements and preferences\, please just chat to one of our coordinator or one of our friendly volunteers who will be more than happy to help. \n\n\n\nDate: Every FridayTime: 10:30 am till noonLocation: 41 Clarke Road\, Margaret RiverCost: $10 per bag or donate what you can \n\n\n\nWorking together to reduce food waste and food insecurity in our community. \n\n\n\nFind out more like how to volunteer\, donate your time or money to this great local organisation.
URL:https://mind-ed.org.au/event/community-pantry/2026-12-25/
CATEGORIES:Local Events
ATTACH;FMTTYPE=image/jpeg:https://mind-ed.org.au/wp-content/uploads/sites/113/2025/10/2.jpg
END:VEVENT
BEGIN:VEVENT
DTSTART;TZID=Australia/Perth:20270101T103000
DTEND;TZID=Australia/Perth:20270101T120000
DTSTAMP:20260426T025730
CREATED:20260216T083752Z
LAST-MODIFIED:20260216T084254Z
UID:10003427-1798799400-1798804800@mind-ed.org.au
SUMMARY:Community Pantry
DESCRIPTION:Community Pantry Food bags\n\n\n\nFriday is Pantry Day\n\n\n\nEach Friday between 10:30am and 12pm we welcome members of the community to access a variety of fresh fruit and vegetables\, dry good staples\, dairy and frozen meat.We are open for donations between 9am – 11am on Thursdays\, and 9am – 10:30am on Fridays.  \n\n\n\nWe especially welcome excess home grown produce!All are welcome and we have a suggested weekly donation of $10.  \n\n\n\nOur motto is “Give what you can\, receive what you need”. We can cater for dietary requirements and preferences\, please just chat to one of our coordinator or one of our friendly volunteers who will be more than happy to help. \n\n\n\nDate: Every FridayTime: 10:30 am till noonLocation: 41 Clarke Road\, Margaret RiverCost: $10 per bag or donate what you can \n\n\n\nWorking together to reduce food waste and food insecurity in our community. \n\n\n\nFind out more like how to volunteer\, donate your time or money to this great local organisation.
URL:https://mind-ed.org.au/event/community-pantry/2027-01-01/
CATEGORIES:Local Events
ATTACH;FMTTYPE=image/jpeg:https://mind-ed.org.au/wp-content/uploads/sites/113/2025/10/2.jpg
END:VEVENT
BEGIN:VEVENT
DTSTART;TZID=Australia/Perth:20270108T103000
DTEND;TZID=Australia/Perth:20270108T120000
DTSTAMP:20260426T025730
CREATED:20260216T083752Z
LAST-MODIFIED:20260216T084254Z
UID:10003428-1799404200-1799409600@mind-ed.org.au
SUMMARY:Community Pantry
DESCRIPTION:Community Pantry Food bags\n\n\n\nFriday is Pantry Day\n\n\n\nEach Friday between 10:30am and 12pm we welcome members of the community to access a variety of fresh fruit and vegetables\, dry good staples\, dairy and frozen meat.We are open for donations between 9am – 11am on Thursdays\, and 9am – 10:30am on Fridays.  \n\n\n\nWe especially welcome excess home grown produce!All are welcome and we have a suggested weekly donation of $10.  \n\n\n\nOur motto is “Give what you can\, receive what you need”. We can cater for dietary requirements and preferences\, please just chat to one of our coordinator or one of our friendly volunteers who will be more than happy to help. \n\n\n\nDate: Every FridayTime: 10:30 am till noonLocation: 41 Clarke Road\, Margaret RiverCost: $10 per bag or donate what you can \n\n\n\nWorking together to reduce food waste and food insecurity in our community. \n\n\n\nFind out more like how to volunteer\, donate your time or money to this great local organisation.
URL:https://mind-ed.org.au/event/community-pantry/2027-01-08/
CATEGORIES:Local Events
ATTACH;FMTTYPE=image/jpeg:https://mind-ed.org.au/wp-content/uploads/sites/113/2025/10/2.jpg
END:VEVENT
BEGIN:VEVENT
DTSTART;TZID=Australia/Perth:20270115T103000
DTEND;TZID=Australia/Perth:20270115T120000
DTSTAMP:20260426T025730
CREATED:20260216T083752Z
LAST-MODIFIED:20260216T084254Z
UID:10003429-1800009000-1800014400@mind-ed.org.au
SUMMARY:Community Pantry
DESCRIPTION:Community Pantry Food bags\n\n\n\nFriday is Pantry Day\n\n\n\nEach Friday between 10:30am and 12pm we welcome members of the community to access a variety of fresh fruit and vegetables\, dry good staples\, dairy and frozen meat.We are open for donations between 9am – 11am on Thursdays\, and 9am – 10:30am on Fridays.  \n\n\n\nWe especially welcome excess home grown produce!All are welcome and we have a suggested weekly donation of $10.  \n\n\n\nOur motto is “Give what you can\, receive what you need”. We can cater for dietary requirements and preferences\, please just chat to one of our coordinator or one of our friendly volunteers who will be more than happy to help. \n\n\n\nDate: Every FridayTime: 10:30 am till noonLocation: 41 Clarke Road\, Margaret RiverCost: $10 per bag or donate what you can \n\n\n\nWorking together to reduce food waste and food insecurity in our community. \n\n\n\nFind out more like how to volunteer\, donate your time or money to this great local organisation.
URL:https://mind-ed.org.au/event/community-pantry/2027-01-15/
CATEGORIES:Local Events
ATTACH;FMTTYPE=image/jpeg:https://mind-ed.org.au/wp-content/uploads/sites/113/2025/10/2.jpg
END:VEVENT
BEGIN:VEVENT
DTSTART;TZID=Australia/Perth:20270122T103000
DTEND;TZID=Australia/Perth:20270122T120000
DTSTAMP:20260426T025730
CREATED:20260216T083752Z
LAST-MODIFIED:20260216T084254Z
UID:10003430-1800613800-1800619200@mind-ed.org.au
SUMMARY:Community Pantry
DESCRIPTION:Community Pantry Food bags\n\n\n\nFriday is Pantry Day\n\n\n\nEach Friday between 10:30am and 12pm we welcome members of the community to access a variety of fresh fruit and vegetables\, dry good staples\, dairy and frozen meat.We are open for donations between 9am – 11am on Thursdays\, and 9am – 10:30am on Fridays.  \n\n\n\nWe especially welcome excess home grown produce!All are welcome and we have a suggested weekly donation of $10.  \n\n\n\nOur motto is “Give what you can\, receive what you need”. We can cater for dietary requirements and preferences\, please just chat to one of our coordinator or one of our friendly volunteers who will be more than happy to help. \n\n\n\nDate: Every FridayTime: 10:30 am till noonLocation: 41 Clarke Road\, Margaret RiverCost: $10 per bag or donate what you can \n\n\n\nWorking together to reduce food waste and food insecurity in our community. \n\n\n\nFind out more like how to volunteer\, donate your time or money to this great local organisation.
URL:https://mind-ed.org.au/event/community-pantry/2027-01-22/
CATEGORIES:Local Events
ATTACH;FMTTYPE=image/jpeg:https://mind-ed.org.au/wp-content/uploads/sites/113/2025/10/2.jpg
END:VEVENT
BEGIN:VEVENT
DTSTART;TZID=Australia/Perth:20270129T103000
DTEND;TZID=Australia/Perth:20270129T120000
DTSTAMP:20260426T025730
CREATED:20260216T083752Z
LAST-MODIFIED:20260216T084254Z
UID:10003431-1801218600-1801224000@mind-ed.org.au
SUMMARY:Community Pantry
DESCRIPTION:Community Pantry Food bags\n\n\n\nFriday is Pantry Day\n\n\n\nEach Friday between 10:30am and 12pm we welcome members of the community to access a variety of fresh fruit and vegetables\, dry good staples\, dairy and frozen meat.We are open for donations between 9am – 11am on Thursdays\, and 9am – 10:30am on Fridays.  \n\n\n\nWe especially welcome excess home grown produce!All are welcome and we have a suggested weekly donation of $10.  \n\n\n\nOur motto is “Give what you can\, receive what you need”. We can cater for dietary requirements and preferences\, please just chat to one of our coordinator or one of our friendly volunteers who will be more than happy to help. \n\n\n\nDate: Every FridayTime: 10:30 am till noonLocation: 41 Clarke Road\, Margaret RiverCost: $10 per bag or donate what you can \n\n\n\nWorking together to reduce food waste and food insecurity in our community. \n\n\n\nFind out more like how to volunteer\, donate your time or money to this great local organisation.
URL:https://mind-ed.org.au/event/community-pantry/2027-01-29/
CATEGORIES:Local Events
ATTACH;FMTTYPE=image/jpeg:https://mind-ed.org.au/wp-content/uploads/sites/113/2025/10/2.jpg
END:VEVENT
BEGIN:VEVENT
DTSTART;TZID=Australia/Perth:20270205T103000
DTEND;TZID=Australia/Perth:20270205T120000
DTSTAMP:20260426T025730
CREATED:20260216T083752Z
LAST-MODIFIED:20260216T084254Z
UID:10003432-1801823400-1801828800@mind-ed.org.au
SUMMARY:Community Pantry
DESCRIPTION:Community Pantry Food bags\n\n\n\nFriday is Pantry Day\n\n\n\nEach Friday between 10:30am and 12pm we welcome members of the community to access a variety of fresh fruit and vegetables\, dry good staples\, dairy and frozen meat.We are open for donations between 9am – 11am on Thursdays\, and 9am – 10:30am on Fridays.  \n\n\n\nWe especially welcome excess home grown produce!All are welcome and we have a suggested weekly donation of $10.  \n\n\n\nOur motto is “Give what you can\, receive what you need”. We can cater for dietary requirements and preferences\, please just chat to one of our coordinator or one of our friendly volunteers who will be more than happy to help. \n\n\n\nDate: Every FridayTime: 10:30 am till noonLocation: 41 Clarke Road\, Margaret RiverCost: $10 per bag or donate what you can \n\n\n\nWorking together to reduce food waste and food insecurity in our community. \n\n\n\nFind out more like how to volunteer\, donate your time or money to this great local organisation.
URL:https://mind-ed.org.au/event/community-pantry/2027-02-05/
CATEGORIES:Local Events
ATTACH;FMTTYPE=image/jpeg:https://mind-ed.org.au/wp-content/uploads/sites/113/2025/10/2.jpg
END:VEVENT
BEGIN:VEVENT
DTSTART;TZID=Australia/Perth:20270212T103000
DTEND;TZID=Australia/Perth:20270212T120000
DTSTAMP:20260426T025730
CREATED:20260216T083752Z
LAST-MODIFIED:20260216T084254Z
UID:10003433-1802428200-1802433600@mind-ed.org.au
SUMMARY:Community Pantry
DESCRIPTION:Community Pantry Food bags\n\n\n\nFriday is Pantry Day\n\n\n\nEach Friday between 10:30am and 12pm we welcome members of the community to access a variety of fresh fruit and vegetables\, dry good staples\, dairy and frozen meat.We are open for donations between 9am – 11am on Thursdays\, and 9am – 10:30am on Fridays.  \n\n\n\nWe especially welcome excess home grown produce!All are welcome and we have a suggested weekly donation of $10.  \n\n\n\nOur motto is “Give what you can\, receive what you need”. We can cater for dietary requirements and preferences\, please just chat to one of our coordinator or one of our friendly volunteers who will be more than happy to help. \n\n\n\nDate: Every FridayTime: 10:30 am till noonLocation: 41 Clarke Road\, Margaret RiverCost: $10 per bag or donate what you can \n\n\n\nWorking together to reduce food waste and food insecurity in our community. \n\n\n\nFind out more like how to volunteer\, donate your time or money to this great local organisation.
URL:https://mind-ed.org.au/event/community-pantry/2027-02-12/
CATEGORIES:Local Events
ATTACH;FMTTYPE=image/jpeg:https://mind-ed.org.au/wp-content/uploads/sites/113/2025/10/2.jpg
END:VEVENT
END:VCALENDAR